BEGIN:VCALENDAR
VERSION:2.0
PRODID:-//ISA//EVENT 1.0//EN
METHOD:PUBLISH
BEGIN:VEVENT
SUMMARY:Dundalk Agricultural Show 2026
UID:1cfa9cb41bbbc7063ad84247092989cb
SEQUENCE:0
DTSTART:20260614T090000
DTEND:20260614T200000
ORGANIZER;CN=Dundalk Show Society CLG:MAILTO:secretary@dundalkshow.com
LOCATION:C/O EliteForm Manufacturing Ltd, Dromiskin Road, Castlebellingham, Louth, A91 HH93, Ireland
DTSTAMP:20260420T032236
DESCRIPTION:
URL:https://www.dundalkshow.com/events/dundalk-agricultural-show-2026
END:VEVENT
END:VCALENDAR